BEGIN:VCALENDAR
VERSION:2.0
PRODID:-//FYZICAL Chicago - ECPv6.15.13.1//NONSGML v1.0//EN
CALSCALE:GREGORIAN
METHOD:PUBLISH
X-ORIGINAL-URL:https://fyzicalchicago.com
X-WR-CALDESC:Events for FYZICAL Chicago
REFRESH-INTERVAL;VALUE=DURATION:PT1H
X-Robots-Tag:noindex
X-PUBLISHED-TTL:PT1H
BEGIN:VTIMEZONE
TZID:America/Chicago
BEGIN:DAYLIGHT
TZOFFSETFROM:-0600
TZOFFSETTO:-0500
TZNAME:CDT
DTSTART:20230312T080000
END:DAYLIGHT
BEGIN:STANDARD
TZOFFSETFROM:-0500
TZOFFSETTO:-0600
TZNAME:CST
DTSTART:20231105T070000
END:STANDARD
BEGIN:DAYLIGHT
TZOFFSETFROM:-0600
TZOFFSETTO:-0500
TZNAME:CDT
DTSTART:20240310T080000
END:DAYLIGHT
BEGIN:STANDARD
TZOFFSETFROM:-0500
TZOFFSETTO:-0600
TZNAME:CST
DTSTART:20241103T070000
END:STANDARD
BEGIN:DAYLIGHT
TZOFFSETFROM:-0600
TZOFFSETTO:-0500
TZNAME:CDT
DTSTART:20250309T080000
END:DAYLIGHT
BEGIN:STANDARD
TZOFFSETFROM:-0500
TZOFFSETTO:-0600
TZNAME:CST
DTSTART:20251102T070000
END:STANDARD
END:VTIMEZONE
BEGIN:VEVENT
DTSTART;TZID=America/Chicago:20240316T100000
DTEND;TZID=America/Chicago:20240316T113000
DTSTAMP:20260421T174806
CREATED:20240228T015315Z
LAST-MODIFIED:20240228T030205Z
UID:10740-1710583200-1710588600@fyzicalchicago.com
SUMMARY:FYZICAL Wheaton Forum - Stand Tall\, Prevent a Fall
DESCRIPTION:
URL:https://fyzicalchicago.com/event/fyzical-wheaton-forum-stand-tall-prevent-a-fall/
LOCATION:FYZICAL Chicago – Wheaton\, 1751 S. Naperville Rd.- Suite 107\, Wheaton\, IL\, 60189\, United States
CATEGORIES:Wheaton
ATTACH;FMTTYPE=image/png:https://fyzicalchicago.com/wp-content/uploads/2024/02/fyzical-chicago-wheaton-vestibular-forum-march-2024.png
END:VEVENT
END:VCALENDAR