BEGIN:VCALENDAR
VERSION:2.0
PRODID:-//FYZICAL Chicago - ECPv6.15.13.1//NONSGML v1.0//EN
CALSCALE:GREGORIAN
METHOD:PUBLISH
X-WR-CALNAME:FYZICAL Chicago
X-ORIGINAL-URL:https://fyzicalchicago.com
X-WR-CALDESC:Events for FYZICAL Chicago
REFRESH-INTERVAL;VALUE=DURATION:PT1H
X-Robots-Tag:noindex
X-PUBLISHED-TTL:PT1H
BEGIN:VTIMEZONE
TZID:America/Chicago
BEGIN:DAYLIGHT
TZOFFSETFROM:-0600
TZOFFSETTO:-0500
TZNAME:CDT
DTSTART:20220313T080000
END:DAYLIGHT
BEGIN:STANDARD
TZOFFSETFROM:-0500
TZOFFSETTO:-0600
TZNAME:CST
DTSTART:20221106T070000
END:STANDARD
BEGIN:DAYLIGHT
TZOFFSETFROM:-0600
TZOFFSETTO:-0500
TZNAME:CDT
DTSTART:20230312T080000
END:DAYLIGHT
BEGIN:STANDARD
TZOFFSETFROM:-0500
TZOFFSETTO:-0600
TZNAME:CST
DTSTART:20231105T070000
END:STANDARD
BEGIN:DAYLIGHT
TZOFFSETFROM:-0600
TZOFFSETTO:-0500
TZNAME:CDT
DTSTART:20240310T080000
END:DAYLIGHT
BEGIN:STANDARD
TZOFFSETFROM:-0500
TZOFFSETTO:-0600
TZNAME:CST
DTSTART:20241103T070000
END:STANDARD
BEGIN:DAYLIGHT
TZOFFSETFROM:-0600
TZOFFSETTO:-0500
TZNAME:CDT
DTSTART:20250309T080000
END:DAYLIGHT
BEGIN:STANDARD
TZOFFSETFROM:-0500
TZOFFSETTO:-0600
TZNAME:CST
DTSTART:20251102T070000
END:STANDARD
BEGIN:DAYLIGHT
TZOFFSETFROM:-0600
TZOFFSETTO:-0500
TZNAME:CDT
DTSTART:20260308T080000
END:DAYLIGHT
BEGIN:STANDARD
TZOFFSETFROM:-0500
TZOFFSETTO:-0600
TZNAME:CST
DTSTART:20261101T070000
END:STANDARD
BEGIN:DAYLIGHT
TZOFFSETFROM:-0600
TZOFFSETTO:-0500
TZNAME:CDT
DTSTART:20270314T080000
END:DAYLIGHT
BEGIN:STANDARD
TZOFFSETFROM:-0500
TZOFFSETTO:-0600
TZNAME:CST
DTSTART:20271107T070000
END:STANDARD
END:VTIMEZONE
BEGIN:VTIMEZONE
TZID:UTC
BEGIN:STANDARD
TZOFFSETFROM:+0000
TZOFFSETTO:+0000
TZNAME:UTC
DTSTART:20230101T000000
END:STANDARD
END:VTIMEZONE
BEGIN:VEVENT
DTSTART;TZID=America/Chicago:20260214T100000
DTEND;TZID=America/Chicago:20260214T113000
DTSTAMP:20260421T072448
CREATED:20260113T163855Z
LAST-MODIFIED:20260113T164243Z
UID:12371-1771063200-1771068600@fyzicalchicago.com
SUMMARY:Sweetheart Stretch Oak Brook
DESCRIPTION:Led by our stretch professionals\, Andres and Dina. Couples will learn how to safely and effectively perform assisted stretches for their partner in a fun\, supportive\, and controlled environment! Wear comfortable clothing. Light refreshments provided. \n  \nFree – Call 630-318-3000 or RSVP using the link above to secure your spot today! \nRSVP HERE
URL:https://fyzicalchicago.com/event/sweetheart-stretch-oak-brook/
LOCATION:FYZICAL Chicago – Oak Brook\, 1725 W. 22nd St. Unit G\, Oak Brook\, IL\, 60523\, United States
CATEGORIES:Oak Brook,Stretch Pop-Up
ATTACH;FMTTYPE=image/jpeg:https://fyzicalchicago.com/wp-content/uploads/2026/01/fyzical-oak-brook-sweetheart-stretch.jpg
END:VEVENT
BEGIN:VEVENT
DTSTART;TZID=America/Chicago:20260109T070000
DTEND;TZID=America/Chicago:20260109T090000
DTSTAMP:20260421T072448
CREATED:20251118T175724Z
LAST-MODIFIED:20251118T175724Z
UID:12099-1767942000-1767949200@fyzicalchicago.com
SUMMARY:Park Plus Fitness 3rd Annual Open House
DESCRIPTION:Offering Stretch Demos 7am – 9am for Parks Plus 3rd Annual Open House. Our team of experts will be on-site conducting complimentary 10-minute stretch demonstrations designed to boost flexibility\, reduce tension\, and leave you feeling refreshed. Whether you’re an athlete\, busy professional\, or simply looking to move with greater ease\, this is the perfect opportunity to discover how assisted stretching can enhance your daily life. Stop by\, try it out\, and feel the difference for yourself!
URL:https://fyzicalchicago.com/event/park-plus-fitness-3rd-annual-open-house/
LOCATION:Ray Morrill Community Center\, 1777 s Blanchard st\, Wheaton\, 60189\, United States
CATEGORIES:Stretch Pop-Up
ATTACH;FMTTYPE=image/jpeg:https://fyzicalchicago.com/wp-content/uploads/2022/09/fyzical-chicago-schaumburg-pt.jpg
END:VEVENT
BEGIN:VEVENT
DTSTART;TZID=America/Chicago:20251025T063000
DTEND;TZID=America/Chicago:20251025T110000
DTSTAMP:20260421T072448
CREATED:20251020T180601Z
LAST-MODIFIED:20251020T180836Z
UID:12013-1761373800-1761390000@fyzicalchicago.com
SUMMARY:Orange Theory Wheaton Halloween Pop-Up
DESCRIPTION:Join us for demo stretches for Orange Theory Members participating in classes and the benefits of FYZICAL Stretch! Our team of experts will be on-site conducting complimentary 10-minute stretch demonstrations designed to boost flexibility\, reduce tension\, and leave you feeling refreshed. Whether you’re an athlete\, busy professional\, or simply looking to move with greater ease\, this is the perfect opportunity to discover how assisted stretching can enhance your daily life. Stop by\, try it out\, and feel the difference for yourself!
URL:https://fyzicalchicago.com/event/orange-theory-wheaton-halloween-pop-up/
LOCATION:Orange Theory Fitness Westmont\, 19 West Ogden Avenue\, Westmont\, IL\, 60559\, United States
CATEGORIES:Stretch Pop-Up
ATTACH;FMTTYPE=image/jpeg:https://fyzicalchicago.com/wp-content/uploads/2022/09/fyzical-chicago-schaumburg-pt.jpg
END:VEVENT
BEGIN:VEVENT
DTSTART;TZID=America/Chicago:20250925T170000
DTEND;TZID=America/Chicago:20250925T190000
DTSTAMP:20260421T072448
CREATED:20250919T132851Z
LAST-MODIFIED:20250929T170053Z
UID:11885-1758819600-1758826800@fyzicalchicago.com
SUMMARY:LA Fitness Downers Grove Evening Stretch Pop-Up
DESCRIPTION:Join us for an energizing experience as we showcase the benefits of FYZICAL Stretch! Our team of experts will be on-site conducting complimentary 10-minute stretch demonstrations designed to boost flexibility\, reduce tension\, and leave you feeling refreshed. Whether you’re an athlete\, busy professional\, or simply looking to move with greater ease\, this is the perfect opportunity to discover how assisted stretching can enhance your daily life. Stop by\, try it out\, and feel the difference for yourself!
URL:https://fyzicalchicago.com/event/la-fitness-downers-grove-evening-stretch-pop-up/
LOCATION:LA Fitness Downers Grove\, 1320 75th St\, Downers Grove\, IL\, 60516\, United States
CATEGORIES:Stretch Pop-Up
ATTACH;FMTTYPE=image/jpeg:https://fyzicalchicago.com/wp-content/uploads/2025/09/fyzical-chicago-stretch-program-1.jpg
END:VEVENT
BEGIN:VEVENT
DTSTART;TZID=America/Chicago:20250925T080000
DTEND;TZID=America/Chicago:20250925T110000
DTSTAMP:20260421T072448
CREATED:20250919T132538Z
LAST-MODIFIED:20250929T170140Z
UID:11882-1758787200-1758798000@fyzicalchicago.com
SUMMARY:LA Fitness Downers Grove Morning Stretch Pop-Up
DESCRIPTION:Join us for an energizing experience as we showcase the benefits of FYZICAL Stretch! Our team of experts will be on-site conducting complimentary 10-minute stretch demonstrations designed to boost flexibility\, reduce tension\, and leave you feeling refreshed. Whether you’re an athlete\, busy professional\, or simply looking to move with greater ease\, this is the perfect opportunity to discover how assisted stretching can enhance your daily life. Stop by\, try it out\, and feel the difference for yourself!
URL:https://fyzicalchicago.com/event/la-fitness-downers-grove-morning-stretch-pop-up/
LOCATION:LA Fitness Downers Grove\, 1320 75th St\, Downers Grove\, IL\, 60516\, United States
CATEGORIES:Stretch Pop-Up
ATTACH;FMTTYPE=image/jpeg:https://fyzicalchicago.com/wp-content/uploads/2021/09/fyzical-chicago-centers-coming-soon.jpg
END:VEVENT
BEGIN:VEVENT
DTSTART;TZID=America/Chicago:20250919T080000
DTEND;TZID=America/Chicago:20250919T160000
DTSTAMP:20260421T072448
CREATED:20250919T132302Z
LAST-MODIFIED:20250929T170115Z
UID:11879-1758268800-1758297600@fyzicalchicago.com
SUMMARY:St. Joan of Arc Golf Tournament
DESCRIPTION:Join us for an energizing experience as we showcase the benefits of FYZICAL Stretch! Our team of experts will be on-site conducting complimentary 10-minute stretch demonstrations designed to boost flexibility\, reduce tension\, and leave you feeling refreshed. Whether you’re an athlete\, busy professional\, or simply looking to move with greater ease\, this is the perfect opportunity to discover how assisted stretching can enhance your daily life. Stop by\, try it out\, and feel the difference for yourself!
URL:https://fyzicalchicago.com/event/st-joan-of-arc-golf-tournament/
LOCATION:Seven Bridges Golf Club\, 1 Mulligan Drive\, Woodridge\, 60517\, United States
CATEGORIES:Stretch Pop-Up
ATTACH;FMTTYPE=image/jpeg:https://fyzicalchicago.com/wp-content/uploads/2022/09/fyzical-chicago-schaumburg-pt.jpg
END:VEVENT
BEGIN:VEVENT
DTSTART;TZID=America/Chicago:20250917T170000
DTEND;TZID=America/Chicago:20250917T190000
DTSTAMP:20260421T072448
CREATED:20250916T195456Z
LAST-MODIFIED:20250929T170205Z
UID:11839-1758128400-1758135600@fyzicalchicago.com
SUMMARY:LA Fitness Downers Grove Evening Stretch Pop-Up
DESCRIPTION:Join us for an energizing experience as we showcase the benefits of FYZICAL Stretch! Our team of experts will be on-site conducting complimentary 10-minute stretch demonstrations designed to boost flexibility\, reduce tension\, and leave you feeling refreshed. Whether you’re an athlete\, busy professional\, or simply looking to move with greater ease\, this is the perfect opportunity to discover how assisted stretching can enhance your daily life. Stop by\, try it out\, and feel the difference for yourself!
URL:https://fyzicalchicago.com/event/la-fitness-downers-grove-stretch-pop-up-2/
LOCATION:LA Fitness Downers Grove\, 1320 75th St\, Downers Grove\, IL\, 60516\, United States
CATEGORIES:Stretch Pop-Up
ATTACH;FMTTYPE=image/jpeg:https://fyzicalchicago.com/wp-content/uploads/2025/09/fyzical-chicago-stretch-program-1.jpg
END:VEVENT
BEGIN:VEVENT
DTSTART;TZID=America/Chicago:20250917T080000
DTEND;TZID=America/Chicago:20250917T110000
DTSTAMP:20260421T072448
CREATED:20250916T195323Z
LAST-MODIFIED:20250929T170227Z
UID:11835-1758096000-1758106800@fyzicalchicago.com
SUMMARY:LA Fitness Downers Grove Morning Stretch Pop-Up
DESCRIPTION:Join us for an energizing experience as we showcase the benefits of FYZICAL Stretch! Our team of experts will be on-site conducting complimentary 10-minute stretch demonstrations designed to boost flexibility\, reduce tension\, and leave you feeling refreshed. Whether you’re an athlete\, busy professional\, or simply looking to move with greater ease\, this is the perfect opportunity to discover how assisted stretching can enhance your daily life. Stop by\, try it out\, and feel the difference for yourself!
URL:https://fyzicalchicago.com/event/la-fitness-downers-grove-stretch-pop-up/
LOCATION:LA Fitness Downers Grove\, 1320 75th St\, Downers Grove\, IL\, 60516\, United States
CATEGORIES:Stretch Pop-Up
ATTACH;FMTTYPE=image/jpeg:https://fyzicalchicago.com/wp-content/uploads/2025/09/fyzical-chicago-stretch-program-1.jpg
END:VEVENT
BEGIN:VEVENT
DTSTART;TZID=America/Chicago:20240615T100000
DTEND;TZID=America/Chicago:20240615T110000
DTSTAMP:20260421T072448
CREATED:20240523T164526Z
LAST-MODIFIED:20250929T170250Z
UID:10904-1718445600-1718449200@fyzicalchicago.com
SUMMARY:FYZICAL Garfield Ridge - Music\, Memory and the Brain
DESCRIPTION:
URL:https://fyzicalchicago.com/event/fyzical-garfield-ridge-music-memory-and-the-brain/
LOCATION:FYZICAL Chicago – Garfield Ridge\, 6921 W. Archer Ave.\, Chicago\, IL\, 60638\, United States
CATEGORIES:Garfield Ridge
ATTACH;FMTTYPE=image/png:https://fyzicalchicago.com/wp-content/uploads/2024/05/6-fyzical-garfield-music-june-2024.png
END:VEVENT
BEGIN:VEVENT
DTSTART;TZID=America/Chicago:20240614T160000
DTEND;TZID=America/Chicago:20240614T180000
DTSTAMP:20260421T072448
CREATED:20240507T141748Z
LAST-MODIFIED:20240507T141748Z
UID:10852-1718380800-1718388000@fyzicalchicago.com
SUMMARY:FYZICAL Schaumburg Forum - Therapeutic Pottery Class
DESCRIPTION:
URL:https://fyzicalchicago.com/event/fyzical-schaumburg-forum-therapeutic-pottery-class/
LOCATION:FYZICAL Chicago – Schaumburg\, 885 S. Roselle Rd.\, Schaumburg\, 60193\, United States
CATEGORIES:Schaumburg
ATTACH;FMTTYPE=image/png:https://fyzicalchicago.com/wp-content/uploads/2024/05/6-fyzical-schaumburg-pottery-june-2024.png
END:VEVENT
BEGIN:VEVENT
DTSTART;TZID=America/Chicago:20240608T100000
DTEND;TZID=America/Chicago:20240608T110000
DTSTAMP:20260421T072448
CREATED:20240523T163950Z
LAST-MODIFIED:20240523T163950Z
UID:10901-1717840800-1717844400@fyzicalchicago.com
SUMMARY:FYZICAL Naperville - Yoga for Chronic Pain
DESCRIPTION:
URL:https://fyzicalchicago.com/event/fyzical-naperville-yoga-for-chronic-pain/
LOCATION:FYZICAL Chicago – Naperville\, 1240 Iroquois Ave. Suite 400\, Naperville\, IL\, 60563\, United States
CATEGORIES:Naperville
ATTACH;FMTTYPE=image/png:https://fyzicalchicago.com/wp-content/uploads/2024/05/6-fyzical-naperville-yoga-pain-june-2024.png
END:VEVENT
BEGIN:VEVENT
DTSTART;TZID=America/Chicago:20240601T100000
DTEND;TZID=America/Chicago:20240601T113000
DTSTAMP:20260421T072448
CREATED:20240422T154219Z
LAST-MODIFIED:20260227T153800Z
UID:10825-1717236000-1717241400@fyzicalchicago.com
SUMMARY:FYZICAL Oak Brook Forum - Gardening for Everyone
DESCRIPTION:
URL:https://fyzicalchicago.com/event/fyzical-oak-brook-forum-gardening-for-everyone/
LOCATION:FYZICAL Chicago – Oak Brook\, 1725 W. 22nd St. Unit G\, Oak Brook\, IL\, 60523\, United States
CATEGORIES:Oak Brook
ATTACH;FMTTYPE=image/png:https://fyzicalchicago.com/wp-content/uploads/2024/04/6-fyzical-oakbrook-gardening-june-2024.png
END:VEVENT
BEGIN:VEVENT
DTSTART;TZID=America/Chicago:20240531T163000
DTEND;TZID=America/Chicago:20240531T180000
DTSTAMP:20260421T072448
CREATED:20240507T140000Z
LAST-MODIFIED:20240507T140802Z
UID:10845-1717173000-1717178400@fyzicalchicago.com
SUMMARY:FYZICAL Garfield Ridge - Stand Tall\, Prevent a Fall
DESCRIPTION:
URL:https://fyzicalchicago.com/event/fyzical-garfield-ridge-stand-tall-prevent-a-fall/
LOCATION:FYZICAL Chicago – Garfield Ridge\, 6921 W. Archer Ave.\, Chicago\, IL\, 60638\, United States
CATEGORIES:Garfield Ridge
ATTACH;FMTTYPE=image/png:https://fyzicalchicago.com/wp-content/uploads/2024/05/5-fyzical-garfield-ridge-vestibular-forum-may-2024.png
END:VEVENT
BEGIN:VEVENT
DTSTART;TZID=America/Chicago:20240530T120000
DTEND;TZID=America/Chicago:20240530T140000
DTSTAMP:20260421T072448
CREATED:20240523T163524Z
LAST-MODIFIED:20240523T163524Z
UID:10897-1717070400-1717077600@fyzicalchicago.com
SUMMARY:FYZICAL Jefferson Park - Stand Tall\, Prevent a Fall
DESCRIPTION:
URL:https://fyzicalchicago.com/event/fyzical-jefferson-park-stand-tall-prevent-a-fall/
LOCATION:FYZICAL Chicago – Jefferson Park\, 5214 N. Milwaukee Ave.\, Chicago\, IL\, 60630\, United States
CATEGORIES:Jefferson Park
ATTACH;FMTTYPE=image/png:https://fyzicalchicago.com/wp-content/uploads/2024/05/5-fyzical-jefferson-park-vestibular-forum-may-2024.png
END:VEVENT
BEGIN:VEVENT
DTSTART;TZID=UTC:20240518T100000
DTEND;TZID=UTC:20240518T110000
DTSTAMP:20260421T072448
CREATED:20240422T203416Z
LAST-MODIFIED:20250929T170312Z
UID:10821-1716026400-1716030000@fyzicalchicago.com
SUMMARY:FYZICAL Naperville Forum - Music\, Memory and the Brain
DESCRIPTION:
URL:https://fyzicalchicago.com/event/fyzical-naperville-music-memory-and-the-brain/
LOCATION:FYZICAL Chicago – Naperville\, 1240 Iroquois Ave. Suite 400\, Naperville\, IL\, 60563\, United States
CATEGORIES:Naperville
ATTACH;FMTTYPE=image/png:https://fyzicalchicago.com/wp-content/uploads/2024/04/5-fyzical-naperville-music-brain-may-2024.png
END:VEVENT
BEGIN:VEVENT
DTSTART;TZID=America/Chicago:20240516T120000
DTEND;TZID=America/Chicago:20240516T130000
DTSTAMP:20260421T072448
CREATED:20240507T140707Z
LAST-MODIFIED:20260227T154327Z
UID:10849-1715860800-1715864400@fyzicalchicago.com
SUMMARY:FYZICAL Jefferson Park Forum - Music\, Memory and the Brain
DESCRIPTION:
URL:https://fyzicalchicago.com/event/fyzical-jefferson-park-forum-music-memory-and-the-brain-2/
LOCATION:FYZICAL Chicago – Jefferson Park\, 5214 N. Milwaukee Ave.\, Chicago\, IL\, 60630\, United States
CATEGORIES:Jefferson Park
ATTACH;FMTTYPE=image/png:https://fyzicalchicago.com/wp-content/uploads/2024/05/5-fyzical-jefferson-park-music-brain-may-2024.png
END:VEVENT
BEGIN:VEVENT
DTSTART;TZID=America/Chicago:20240420T100000
DTEND;TZID=America/Chicago:20240420T120000
DTSTAMP:20260421T072448
CREATED:20240228T020434Z
LAST-MODIFIED:20250929T170402Z
UID:10747-1713607200-1713614400@fyzicalchicago.com
SUMMARY:FYZICAL Mt Prospect Forum - Therapeutic Art Class
DESCRIPTION:
URL:https://fyzicalchicago.com/event/fyzical-mt-prospect-forum-therapeutic-art-class/
LOCATION:FYZICAL Chicago  – Mt. Prospect\, 905 E. Rand Rd. Suite 100\, Mt. Prospect\, IL\, 60056\, United States
CATEGORIES:Mount Prospect
ATTACH;FMTTYPE=image/png:https://fyzicalchicago.com/wp-content/uploads/2024/02/FYZICAL-Mt-Prospect-Forum-Therapeutic-Art-Class.png
END:VEVENT
BEGIN:VEVENT
DTSTART;TZID=UTC:20240413T100000
DTEND;TZID=UTC:20240413T113000
DTSTAMP:20260421T072448
CREATED:20240409T200056Z
LAST-MODIFIED:20240409T200213Z
UID:10792-1713002400-1713007800@fyzicalchicago.com
SUMMARY:FYZICAL Oak Brook Forum - Therapeutic Pottery Class
DESCRIPTION:
URL:https://fyzicalchicago.com/event/fyzical-oak-brook-forum-therapeutic-pottery-class/
LOCATION:FYZICAL Chicago – Oak Brook\, 1725 W. 22nd St. Unit G\, Oak Brook\, IL\, 60523\, United States
CATEGORIES:Oak Brook
ATTACH;FMTTYPE=image/png:https://fyzicalchicago.com/wp-content/uploads/2024/04/4-fyzical-oak-brook-pottery-class-april-2024.png
END:VEVENT
BEGIN:VEVENT
DTSTART;TZID=America/Chicago:20240406T100000
DTEND;TZID=America/Chicago:20240406T113000
DTSTAMP:20260421T072448
CREATED:20240228T025817Z
LAST-MODIFIED:20240228T025918Z
UID:10736-1712397600-1712403000@fyzicalchicago.com
SUMMARY:FYZICAL Lincoln Park - Wellness At Both Ends of the Leash
DESCRIPTION:
URL:https://fyzicalchicago.com/event/fyzical-lincoln-park-wellness-at-both-ends-of-the-leash/
LOCATION:FYZICAL Chicago – Lincoln Park\, 2555 N. Clark St.\, Chicago\, IL\, 60614\, United States
CATEGORIES:Lincoln Park
ATTACH;FMTTYPE=image/png:https://fyzicalchicago.com/wp-content/uploads/2024/02/Lincoln-Park-Wellness-at-Both-Ends-of-the-Leash-2024-.png
END:VEVENT
BEGIN:VEVENT
DTSTART;TZID=America/Chicago:20240323T100000
DTEND;TZID=America/Chicago:20240323T120000
DTSTAMP:20260421T072448
CREATED:20240228T015955Z
LAST-MODIFIED:20250929T170425Z
UID:10743-1711188000-1711195200@fyzicalchicago.com
SUMMARY:FYZICAL Jefferson Park Forum - Therapeutic Art Class
DESCRIPTION:
URL:https://fyzicalchicago.com/event/fyzical-jefferson-park-forum-therapeutic-art-class/
LOCATION:FYZICAL Chicago – Jefferson Park\, 5214 N. Milwaukee Ave.\, Chicago\, IL\, 60630\, United States
CATEGORIES:Jefferson Park
ATTACH;FMTTYPE=image/png:https://fyzicalchicago.com/wp-content/uploads/2024/02/FYZICAL-Forum-Jefferson-Park-Therapeutic-Art-Class-March-2024.png
END:VEVENT
BEGIN:VEVENT
DTSTART;TZID=America/Chicago:20240316T100000
DTEND;TZID=America/Chicago:20240316T113000
DTSTAMP:20260421T072448
CREATED:20240228T015315Z
LAST-MODIFIED:20240228T030205Z
UID:10740-1710583200-1710588600@fyzicalchicago.com
SUMMARY:FYZICAL Wheaton Forum - Stand Tall\, Prevent a Fall
DESCRIPTION:
URL:https://fyzicalchicago.com/event/fyzical-wheaton-forum-stand-tall-prevent-a-fall/
LOCATION:FYZICAL Chicago – Wheaton\, 1751 S. Naperville Rd.- Suite 107\, Wheaton\, IL\, 60189\, United States
CATEGORIES:Wheaton
ATTACH;FMTTYPE=image/png:https://fyzicalchicago.com/wp-content/uploads/2024/02/fyzical-chicago-wheaton-vestibular-forum-march-2024.png
END:VEVENT
BEGIN:VEVENT
DTSTART;TZID=UTC:20240203T100000
DTEND;TZID=UTC:20240203T113000
DTSTAMP:20260421T072448
CREATED:20240124T225100Z
LAST-MODIFIED:20240124T225757Z
UID:10686-1706954400-1706959800@fyzicalchicago.com
SUMMARY:FYZICAL Wheaton Forum - Wellness At Both Ends of the Leash
DESCRIPTION:
URL:https://fyzicalchicago.com/event/fyzical-wheaton-forum-wellness-at-both-ends-of-the-leash/
LOCATION:FYZICAL Chicago – Wheaton\, 1751 S. Naperville Rd.- Suite 107\, Wheaton\, IL\, 60189\, United States
ATTACH;FMTTYPE=image/png:https://fyzicalchicago.com/wp-content/uploads/2024/01/fyzical-wheaton-both-ends-of-leash-feb-2024.png
END:VEVENT
BEGIN:VEVENT
DTSTART;TZID=America/Chicago:20240127T100000
DTEND;TZID=America/Chicago:20240127T110000
DTSTAMP:20260421T072448
CREATED:20240124T223657Z
LAST-MODIFIED:20240124T223817Z
UID:10680-1706349600-1706353200@fyzicalchicago.com
SUMMARY:FYZICAL Jefferson Park Forum - Music\, Memory\, and the Brain
DESCRIPTION:
URL:https://fyzicalchicago.com/event/fyzical-jefferson-park-forum-music-memory-and-the-brain/
LOCATION:FYZICAL Chicago – Jefferson Park\, 5214 N. Milwaukee Ave.\, Chicago\, IL\, 60630\, United States
CATEGORIES:Jefferson Park
ATTACH;FMTTYPE=image/png:https://fyzicalchicago.com/wp-content/uploads/2024/01/fyzical-jefferson-park-music-jan-2024.png
END:VEVENT
BEGIN:VEVENT
DTSTART;TZID=UTC:20240126T163000
DTEND;TZID=UTC:20240126T173000
DTSTAMP:20260421T072448
CREATED:20240119T024825Z
LAST-MODIFIED:20240124T224517Z
UID:10675-1706286600-1706290200@fyzicalchicago.com
SUMMARY:FYZICAL Mount Prospect Forum - Drumming for Health and Wellness
DESCRIPTION:
URL:https://fyzicalchicago.com/event/fyzical-mount-prospect-forum-drumming-for-health-and-wellness/
LOCATION:FYZICAL Chicago  – Mt. Prospect\, 905 E. Rand Rd. Suite 100\, Mt. Prospect\, IL\, 60056\, United States
CATEGORIES:Mount Prospect
ATTACH;FMTTYPE=image/png:https://fyzicalchicago.com/wp-content/uploads/2024/01/Mt.-Prospect-Drumming-for-Health-2024-.png
END:VEVENT
BEGIN:VEVENT
DTSTART;TZID=America/Chicago:20230930T100000
DTEND;TZID=America/Chicago:20230930T110000
DTSTAMP:20260421T072448
CREATED:20230926T194559Z
LAST-MODIFIED:20230926T194752Z
UID:10432-1696068000-1696071600@fyzicalchicago.com
SUMMARY:Emotional Freedom Techniques (EFT) & Tapping for stress relief and well-being
DESCRIPTION:Stress is a part of our lives but the long-term effects of stress can cause significant health risks physically\, emotionally\, psychologically\, and spiritually. \nLynne Staley\, Certified Practitioner of Emotional Freedom Techniques (EFT) or Tapping\, will guide you through this self-empowering life-processing tool that can be applied to any stress or problematic life situation. \nExplore how EFT/Tapping can impact your mind and body using your fingertips on the meridian pathways along with acupressure to calm the nervous system\, manage stress\, and improve health and well-being. \nLynne is also a Certified Facilitator of SoulCollage®\, a certified Grief Recovery Specialist and an author.
URL:https://fyzicalchicago.com/event/emotional-freedom-techniques-eft-tapping-for-stress-relief-and-well-being/
LOCATION:FYZICAL Chicago – Wheaton\, 1751 S. Naperville Rd.- Suite 107\, Wheaton\, IL\, 60189\, United States
ATTACH;FMTTYPE=image/jpeg:https://fyzicalchicago.com/wp-content/uploads/2023/09/fyzical-stress-relief-tapping.jpg
END:VEVENT
END:VCALENDAR