BEGIN:VCALENDAR
VERSION:2.0
PRODID:-//FYZICAL Chicago - ECPv6.15.13.1//NONSGML v1.0//EN
CALSCALE:GREGORIAN
METHOD:PUBLISH
X-WR-CALNAME:FYZICAL Chicago
X-ORIGINAL-URL:https://fyzicalchicago.com
X-WR-CALDESC:Events for FYZICAL Chicago
REFRESH-INTERVAL;VALUE=DURATION:PT1H
X-Robots-Tag:noindex
X-PUBLISHED-TTL:PT1H
BEGIN:VTIMEZONE
TZID:America/Chicago
BEGIN:DAYLIGHT
TZOFFSETFROM:-0600
TZOFFSETTO:-0500
TZNAME:CDT
DTSTART:20220313T080000
END:DAYLIGHT
BEGIN:STANDARD
TZOFFSETFROM:-0500
TZOFFSETTO:-0600
TZNAME:CST
DTSTART:20221106T070000
END:STANDARD
BEGIN:DAYLIGHT
TZOFFSETFROM:-0600
TZOFFSETTO:-0500
TZNAME:CDT
DTSTART:20230312T080000
END:DAYLIGHT
BEGIN:STANDARD
TZOFFSETFROM:-0500
TZOFFSETTO:-0600
TZNAME:CST
DTSTART:20231105T070000
END:STANDARD
BEGIN:DAYLIGHT
TZOFFSETFROM:-0600
TZOFFSETTO:-0500
TZNAME:CDT
DTSTART:20240310T080000
END:DAYLIGHT
BEGIN:STANDARD
TZOFFSETFROM:-0500
TZOFFSETTO:-0600
TZNAME:CST
DTSTART:20241103T070000
END:STANDARD
END:VTIMEZONE
BEGIN:VEVENT
DTSTART;TZID=America/Chicago:20230930T100000
DTEND;TZID=America/Chicago:20230930T110000
DTSTAMP:20260421T112643
CREATED:20230926T194559Z
LAST-MODIFIED:20230926T194752Z
UID:10432-1696068000-1696071600@fyzicalchicago.com
SUMMARY:Emotional Freedom Techniques (EFT) & Tapping for stress relief and well-being
DESCRIPTION:Stress is a part of our lives but the long-term effects of stress can cause significant health risks physically\, emotionally\, psychologically\, and spiritually. \nLynne Staley\, Certified Practitioner of Emotional Freedom Techniques (EFT) or Tapping\, will guide you through this self-empowering life-processing tool that can be applied to any stress or problematic life situation. \nExplore how EFT/Tapping can impact your mind and body using your fingertips on the meridian pathways along with acupressure to calm the nervous system\, manage stress\, and improve health and well-being. \nLynne is also a Certified Facilitator of SoulCollage®\, a certified Grief Recovery Specialist and an author.
URL:https://fyzicalchicago.com/event/emotional-freedom-techniques-eft-tapping-for-stress-relief-and-well-being/
LOCATION:FYZICAL Chicago – Wheaton\, 1751 S. Naperville Rd.- Suite 107\, Wheaton\, IL\, 60189\, United States
ATTACH;FMTTYPE=image/jpeg:https://fyzicalchicago.com/wp-content/uploads/2023/09/fyzical-stress-relief-tapping.jpg
END:VEVENT
END:VCALENDAR